BEGIN:VCALENDAR
VERSION:2.0
PRODID:-//Te Pūhana Ora - ECPv6.15.16//NONSGML v1.0//EN
CALSCALE:GREGORIAN
METHOD:PUBLISH
X-WR-CALNAME:Te Pūhana Ora
X-ORIGINAL-URL:https://tpo.nz
X-WR-CALDESC:Events for Te Pūhana Ora
REFRESH-INTERVAL;VALUE=DURATION:PT1H
X-Robots-Tag:noindex
X-PUBLISHED-TTL:PT1H
BEGIN:VTIMEZONE
TZID:Pacific/Auckland
BEGIN:STANDARD
TZOFFSETFROM:+1300
TZOFFSETTO:+1200
TZNAME:NZST
DTSTART:20250405T140000
END:STANDARD
BEGIN:DAYLIGHT
TZOFFSETFROM:+1200
TZOFFSETTO:+1300
TZNAME:NZDT
DTSTART:20250927T140000
END:DAYLIGHT
BEGIN:STANDARD
TZOFFSETFROM:+1300
TZOFFSETTO:+1200
TZNAME:NZST
DTSTART:20260404T140000
END:STANDARD
BEGIN:DAYLIGHT
TZOFFSETFROM:+1200
TZOFFSETTO:+1300
TZNAME:NZDT
DTSTART:20260926T140000
END:DAYLIGHT
BEGIN:STANDARD
TZOFFSETFROM:+1300
TZOFFSETTO:+1200
TZNAME:NZST
DTSTART:20270403T140000
END:STANDARD
BEGIN:DAYLIGHT
TZOFFSETFROM:+1200
TZOFFSETTO:+1300
TZNAME:NZDT
DTSTART:20270925T140000
END:DAYLIGHT
END:VTIMEZONE
BEGIN:VEVENT
DTSTART;TZID=Pacific/Auckland:20260508T170000
DTEND;TZID=Pacific/Auckland:20260508T190000
DTSTAMP:20260421T090457
CREATED:20260224T003250Z
LAST-MODIFIED:20260224T004450Z
UID:10000015-1778259600-1778266800@tpo.nz
SUMMARY:Waiata Wānanga
DESCRIPTION:Join us for our first Waiata Wānanga of the season. Same day. Same time. Same place. \nPlease bring a plate of finger food to share with our cuppa.
URL:https://tpo.nz/event/waiata_wananga/2026-05-08/
LOCATION:Whakamaratanga Marae\, North Road\, Te One\, Chatham Islands\, 8942\, New Zealand
END:VEVENT
END:VCALENDAR